BEGIN:VCALENDAR
VERSION:2.0
PRODID:-//Base Nautique de Saint-François - ECPv6.3.7//NONSGML v1.0//EN
CALSCALE:GREGORIAN
METHOD:PUBLISH
X-ORIGINAL-URL:http://base-nautique-saintfrancois.com
X-WR-CALDESC:évènements pour Base Nautique de Saint-François
REFRESH-INTERVAL;VALUE=DURATION:PT1H
X-Robots-Tag:noindex
X-PUBLISHED-TTL:PT1H
BEGIN:VTIMEZONE
TZID:America/Guadeloupe
BEGIN:STANDARD
TZOFFSETFROM:-0400
TZOFFSETTO:-0400
TZNAME:AST
DTSTART:20170101T000000
END:STANDARD
END:VTIMEZONE
BEGIN:VEVENT
DTSTART;TZID=America/Guadeloupe:20210210T120000
DTEND;TZID=America/Guadeloupe:20210221T150000
DTSTAMP:20260422T103257
CREATED:20210122T190925Z
LAST-MODIFIED:20210122T190925Z
UID:379-1612958400-1613919600@base-nautique-saintfrancois.com
SUMMARY:STAGE CARNAVAL 2021
DESCRIPTION:Le carnaval  arrive et pour l’occasion la base nautique vous propose des stages et des locations de matériel nautique. \nStage à partir de 120 €. \nNouveau…nous sommes ouvert les dimanches de 10 à 17 h sans interruption.
URL:http://base-nautique-saintfrancois.com/event/stage-carnaval-2021/
LOCATION:Centre Nautique de Saint-François\, rue de la république haut du bourg\, Saint-François\, 97118\, Guadeloupe
END:VEVENT
BEGIN:VEVENT
DTSTART;TZID=America/Guadeloupe:20201222T093000
DTEND;TZID=America/Guadeloupe:20210102T113000
DTSTAMP:20260422T103257
CREATED:20201217T192316Z
LAST-MODIFIED:20201218T151839Z
UID:328-1608629400-1609587000@base-nautique-saintfrancois.com
SUMMARY:Stage vacances décembre 2020
DESCRIPTION:Flyers Centre Nautique 2Nos stages comprennent 4 demi journées et 3 activités nautiques au choix \n\npirates des caraïbes le 29/30/31 décembre et le 02/01/2021. Ce stage s’adresse aux enfants de 4 à 5 ans et demi\nplanche à voile le 22/23/24/26 décembre et le 29/30/31/2020 et le 02/01/2021. A partir de 8 ans.\noptimist le 22/23/24/26 décembre et le 29/30/31/2020 et le 02/01/2021. A partir de 6 ans.\n\nTarif 105 € pirate   120 € optimist 160 € planche à voile.
URL:http://base-nautique-saintfrancois.com/event/stage-vacances-decembre-2020/
END:VEVENT
BEGIN:VEVENT
DTSTART;VALUE=DATE:20190709
DTEND;VALUE=DATE:20190901
DTSTAMP:20260422T103257
CREATED:20190627T135923Z
LAST-MODIFIED:20190627T135923Z
UID:206-1562630400-1567295999@base-nautique-saintfrancois.com
SUMMARY:Stages des grandes vacances 2019
DESCRIPTION:
URL:http://base-nautique-saintfrancois.com/event/stages-des-grandes-vacances-2019/
LOCATION:Centre Nautique de Saint-François\, rue de la république haut du bourg\, Saint-François\, 97118\, Guadeloupe
CATEGORIES:stage
ATTACH;FMTTYPE=image/jpeg:http://base-nautique-saintfrancois.com/wp-content/uploads/2019/06/base.jpg
END:VEVENT
BEGIN:VEVENT
DTSTART;TZID=America/Guadeloupe:20180402T080000
DTEND;TZID=America/Guadeloupe:20180406T170000
DTSTAMP:20260422T103257
CREATED:20171116T115930Z
LAST-MODIFIED:20171116T115930Z
UID:141-1522656000-1523034000@base-nautique-saintfrancois.com
SUMMARY:Stage d'Avril
DESCRIPTION:
URL:http://base-nautique-saintfrancois.com/event/stage-davril/
LOCATION:Centre Nautique de Saint-François\, rue de la république haut du bourg\, Saint-François\, 97118\, Guadeloupe
CATEGORIES:stage
END:VEVENT
BEGIN:VEVENT
DTSTART;TZID=America/Guadeloupe:20180326T080000
DTEND;TZID=America/Guadeloupe:20180330T170000
DTSTAMP:20260422T103257
CREATED:20171116T115750Z
LAST-MODIFIED:20180304T152900Z
UID:139-1522051200-1522429200@base-nautique-saintfrancois.com
SUMMARY:Stage de pâques
DESCRIPTION:
URL:http://base-nautique-saintfrancois.com/event/stage-de-paques/
LOCATION:Centre Nautique de Saint-François\, rue de la république haut du bourg\, Saint-François\, 97118\, Guadeloupe
CATEGORIES:stage
ATTACH;FMTTYPE=image/jpeg:http://base-nautique-saintfrancois.com/wp-content/uploads/2017/11/Stage-de-paques-800Px.jpg
END:VEVENT
BEGIN:VEVENT
DTSTART;TZID=America/Guadeloupe:20180219T080000
DTEND;TZID=America/Guadeloupe:20180221T170000
DTSTAMP:20260422T103257
CREATED:20171115T193149Z
LAST-MODIFIED:20171115T193149Z
UID:137-1519027200-1519232400@base-nautique-saintfrancois.com
SUMMARY:Stage de Février
DESCRIPTION:
URL:http://base-nautique-saintfrancois.com/event/stage-de-fevrier/
LOCATION:Centre Nautique de Saint-François\, rue de la république haut du bourg\, Saint-François\, 97118\, Guadeloupe
END:VEVENT
BEGIN:VEVENT
DTSTART;TZID=America/Guadeloupe:20180212T080000
DTEND;TZID=America/Guadeloupe:20180216T170000
DTSTAMP:20260422T103257
CREATED:20171115T192716Z
LAST-MODIFIED:20180109T193721Z
UID:133-1518422400-1518800400@base-nautique-saintfrancois.com
SUMMARY:Stage de Carnaval
DESCRIPTION:
URL:http://base-nautique-saintfrancois.com/event/stage-de-carnaval/
LOCATION:Centre Nautique de Saint-François\, rue de la république haut du bourg\, Saint-François\, 97118\, Guadeloupe
CATEGORIES:stage
ATTACH;FMTTYPE=image/jpeg:http://base-nautique-saintfrancois.com/wp-content/uploads/2017/11/stage-de-canaval-800-Px.jpg
END:VEVENT
BEGIN:VEVENT
DTSTART;TZID=America/Guadeloupe:20180102T080000
DTEND;TZID=America/Guadeloupe:20180106T170000
DTSTAMP:20260422T103257
CREATED:20171115T192458Z
LAST-MODIFIED:20171115T192802Z
UID:130-1514880000-1515258000@base-nautique-saintfrancois.com
SUMMARY:Stage de Janvier
DESCRIPTION:
URL:http://base-nautique-saintfrancois.com/event/periode-de-stage-de-janvier/
LOCATION:Centre Nautique de Saint-François\, rue de la république haut du bourg\, Saint-François\, 97118\, Guadeloupe
CATEGORIES:stage
END:VEVENT
BEGIN:VEVENT
DTSTART;TZID=America/Guadeloupe:20171226T080000
DTEND;TZID=America/Guadeloupe:20171230T170000
DTSTAMP:20260422T103257
CREATED:20171115T192304Z
LAST-MODIFIED:20171128T191557Z
UID:126-1514275200-1514653200@base-nautique-saintfrancois.com
SUMMARY:Stage de Noël
DESCRIPTION:
URL:http://base-nautique-saintfrancois.com/event/periode-de-stage/
LOCATION:Centre Nautique de Saint-François\, rue de la république haut du bourg\, Saint-François\, 97118\, Guadeloupe
CATEGORIES:stage
ATTACH;FMTTYPE=image/jpeg:http://base-nautique-saintfrancois.com/wp-content/uploads/2017/11/Base-de-voile-Saint-Francois-A2-Satge-NOEL.jpg
END:VEVENT
BEGIN:VEVENT
DTSTART;TZID=America/Guadeloupe:20171205T080000
DTEND;TZID=America/Guadeloupe:20180101T170000
DTSTAMP:20260422T103257
CREATED:20171205T202007Z
LAST-MODIFIED:20180108T190851Z
UID:147-1512460800-1514826000@base-nautique-saintfrancois.com
SUMMARY:Le Label France Station Nautique
DESCRIPTION:Un objectif \nLa raison d’être de chaque Station : présenter\, avec un objectif de qualité maximum\, un ensemble de prestations\, d’activités\, de produits et de services répondant à la demande et aux besoins de tous les publics.\n\n\n\n\n Nos engagements Qualités\n     –       Une organisation locale concertée\n     –       Un accueil permanent et facilement accessible\n     –       Une formation claire\, valide et adaptée\n     –       Une offre nautique multiple et permanente\n     –       Des services et des infrastructures adaptés\n     –       Des animations nombreuses et diversifiées\n     –       Une démarche de respect de l’environnement\n     –       Une commercialisation organisée\n     –       Une écoute au service de la qualité
URL:http://base-nautique-saintfrancois.com/event/le-label-france-station-nautique/
CATEGORIES:News
ATTACH;FMTTYPE=image/jpeg:http://base-nautique-saintfrancois.com/wp-content/uploads/2014/12/logonautique-20.jpg
END:VEVENT
END:VCALENDAR